BEGIN:VCALENDAR
VERSION:2.0
PRODID:-//https://www.lpzyyqgcovacrar.hostmaster.bromleytrustacademy.co.uk///NONSGML kigkonsult.se iCalcreator 2.10.15//
METHOD:PUBLISH
BEGIN:VEVENT
UID:20260421T151307UTC-0345F30Xut@https://www.lpzyyqgcovacrar.hostmaster.br
 omleytrustacademy.co.uk/
DTSTAMP:20260421T151307Z
DESCRIPTION:Register now and secure your spot today! Spaces are limited\, s
 o act fast!\n\nWe’re looking for passionate English and Maths tutors\, bot
 h permanent and variable\, with experience in Functional Skills or GCSE de
 livery (Entry Level to Level 2). We’re also recruiting for Business\, Medi
 a\, Sport\, STEM\, Early Years\, Health and Social Care and IT lecturers\,
  as well as STEM Technicians and Learning Support Assistants.\nNot qualifi
 ed to teach yet? No problem\, we’ll support you to get there.\nJoin us at 
 our recruitment event to find out more. You’ll hear from our People Team a
 bout life at the College\, followed by insights from our Curriculum Leads.
  There’ll also be time to network\, ask questions and take a tour of our b
 rand-new campus\, all with refreshments provided.\nTake the next step in y
 our career and help shape someone’s future. We’d love to see you there.\n
 \nRegister now and secure your spot today! Spaces are limited\, so act fas
 t!\n\n&nbsp\; https://www.lpzyyqgcovacrar.hostmaster.bromleytrustacademy.c
 o.uk/information/events/event/59-we-are-hiring-join-the-team
DTSTART:20260520T173000Z
DTEND:20260520T193000Z
LOCATION:Bromley Campus (Rookery Lane\, Bromley BR2 8HE)
SUMMARY:We are hiring join the team!
URL:https://www.lpzyyqgcovacrar.hostmaster.bromleytrustacademy.co.uk/inform
 ation/events/event/59-we-are-hiring-join-the-team
END:VEVENT
END:VCALENDAR
